BEGIN:VCALENDAR
VERSION:2.0
PRODID:-//Amis de la santé national - ECPv4.2.7//NONSGML v1.0//EN
CALSCALE:GREGORIAN
METHOD:PUBLISH
X-WR-CALNAME:Amis de la santé national
X-ORIGINAL-URL:https://www.lesamisdelasante.org
X-WR-CALDESC:Events for Amis de la santé national
BEGIN:VEVENT
DTSTART;TZID=Europe/Paris:20260314T090000
DTEND;TZID=Europe/Paris:20260314T120000
DTSTAMP:20260419T142040
CREATED:20250210T132839
LAST-MODIFIED:20260310T132522
UID:2286-1773478800-1773489600@www.lesamisdelasante.org
SUMMARY:Assemblée Générale F.N.A.S.
DESCRIPTION:L'Assemblée Générale de la Fédération Nationale aura lieu le 14 mars 2026 à partir de 9 heures au CIS RAVEL (6 av. Maurice Ravel) à Paris.\n 
URL:https://www.lesamisdelasante.org/evenement/assemblee-generale-f-n-a-s-2/
LOCATION:6 av Maurice Ravel\, PARIS\, 75012\, France
ATTACH;FMTTYPE=image/jpeg:https://www.lesamisdelasante.org/wp-content/uploads/2024/03/Logo-FNAS-1-compressed.jpg
END:VEVENT
END:VCALENDAR